BEGIN:VCALENDAR
VERSION:2.0
PRODID:-//JHU CFAR - ECPv6.15.20//NONSGML v1.0//EN
CALSCALE:GREGORIAN
METHOD:PUBLISH
X-WR-CALNAME:JHU CFAR
X-ORIGINAL-URL:https://hopkinscfar.org
X-WR-CALDESC:Events for JHU CFAR
REFRESH-INTERVAL;VALUE=DURATION:PT1H
X-Robots-Tag:noindex
X-PUBLISHED-TTL:PT1H
BEGIN:VTIMEZONE
TZID:America/New_York
BEGIN:DAYLIGHT
TZOFFSETFROM:-0500
TZOFFSETTO:-0400
TZNAME:EDT
DTSTART:20240310T070000
END:DAYLIGHT
BEGIN:STANDARD
TZOFFSETFROM:-0400
TZOFFSETTO:-0500
TZNAME:EST
DTSTART:20241103T060000
END:STANDARD
BEGIN:DAYLIGHT
TZOFFSETFROM:-0500
TZOFFSETTO:-0400
TZNAME:EDT
DTSTART:20250309T070000
END:DAYLIGHT
BEGIN:STANDARD
TZOFFSETFROM:-0400
TZOFFSETTO:-0500
TZNAME:EST
DTSTART:20251102T060000
END:STANDARD
BEGIN:DAYLIGHT
TZOFFSETFROM:-0500
TZOFFSETTO:-0400
TZNAME:EDT
DTSTART:20260308T070000
END:DAYLIGHT
BEGIN:STANDARD
TZOFFSETFROM:-0400
TZOFFSETTO:-0500
TZNAME:EST
DTSTART:20261101T060000
END:STANDARD
END:VTIMEZONE
BEGIN:VEVENT
DTSTART;TZID=America/New_York:20250926T083000
DTEND;TZID=America/New_York:20250926T150000
DTSTAMP:20260423T082210
CREATED:20250908T143958Z
LAST-MODIFIED:20250908T144056Z
UID:10000598-1758875400-1758898800@hopkinscfar.org
SUMMARY:CFAR Annual Meeting
DESCRIPTION:CFAR Annual Meeting Poster 2025 \nPlease join the Center for AIDS Research on Friday\, September 26th for the CFAR Annual Meeting \nRegistration required: https://www.surveymonkey.com/r/CFAR2025 \n  \nScientific Presentations \nTime: 8:30 – 11:40 am \nLocation: Sheldon Hall (W1214) \n  \nFrank Polk Lecture \nTime: Noon – 1:00 pm \nLocation: Sommer Hall (E2014) \n  \nPoster Session \nTime: 1:30 – 3 pm \nLocation: Feinstone Hall (E2030)
URL:https://hopkinscfar.org/event/cfar-annual-meeting/
CATEGORIES:CFAR Annual Meeting 2025
ATTACH;FMTTYPE=image/png:https://hopkinscfar.org/wp-content/uploads/2025/09/2025-CFAR-annual-meeting-eposter.png
END:VEVENT
END:VCALENDAR