BEGIN:VCALENDAR
VERSION:2.0
PRODID:-//JHU CFAR - ECPv6.15.20//NONSGML v1.0//EN
CALSCALE:GREGORIAN
METHOD:PUBLISH
X-WR-CALNAME:JHU CFAR
X-ORIGINAL-URL:https://hopkinscfar.org
X-WR-CALDESC:Events for JHU CFAR
REFRESH-INTERVAL;VALUE=DURATION:PT1H
X-Robots-Tag:noindex
X-PUBLISHED-TTL:PT1H
BEGIN:VTIMEZONE
TZID:America/New_York
BEGIN:DAYLIGHT
TZOFFSETFROM:-0500
TZOFFSETTO:-0400
TZNAME:EDT
DTSTART:20290311T070000
END:DAYLIGHT
BEGIN:STANDARD
TZOFFSETFROM:-0400
TZOFFSETTO:-0500
TZNAME:EST
DTSTART:20291104T060000
END:STANDARD
BEGIN:DAYLIGHT
TZOFFSETFROM:-0500
TZOFFSETTO:-0400
TZNAME:EDT
DTSTART:20300310T070000
END:DAYLIGHT
BEGIN:STANDARD
TZOFFSETFROM:-0400
TZOFFSETTO:-0500
TZNAME:EST
DTSTART:20301103T060000
END:STANDARD
BEGIN:DAYLIGHT
TZOFFSETFROM:-0500
TZOFFSETTO:-0400
TZNAME:EDT
DTSTART:20310309T070000
END:DAYLIGHT
BEGIN:STANDARD
TZOFFSETFROM:-0400
TZOFFSETTO:-0500
TZNAME:EST
DTSTART:20311102T060000
END:STANDARD
BEGIN:DAYLIGHT
TZOFFSETFROM:-0500
TZOFFSETTO:-0400
TZNAME:EDT
DTSTART:20320314T070000
END:DAYLIGHT
BEGIN:STANDARD
TZOFFSETFROM:-0400
TZOFFSETTO:-0500
TZNAME:EST
DTSTART:20321107T060000
END:STANDARD
END:VTIMEZONE
BEGIN:VEVENT
DTSTART;TZID=America/New_York:20300802T120000
DTEND;TZID=America/New_York:20300802T130000
DTSTAMP:20260420T100957
CREATED:20250730T182118Z
LAST-MODIFIED:20250804T185915Z
UID:10000263-1911902400-1911906000@hopkinscfar.org
SUMMARY:AETC/CFAR HIV Providers Meeting
DESCRIPTION:The Center for AIDS Research and the AIDS Education and Training Center are collaborating to provide clinicians and investigators with information on current research\, topics of interest as well as clinical updates. These events take place every Friday at 12 PM in Rangos 590. Additionally\, the noon conference provides an oppotunity for providers to bring cases to discuss. \nRecordings of past meetings can be found on our CFAR YouTube playlist: AECT/HIV Case Conference \nContact Name: Natasha Chida\nEmail: nchida1@jhmi.edu
URL:https://hopkinscfar.org/event/aetc-cfar-hiv-providers-meeting/2030-08-02/
LOCATION:Zoom
END:VEVENT
BEGIN:VEVENT
DTSTART;TZID=America/New_York:20300813T120000
DTEND;TZID=America/New_York:20300813T130000
DTSTAMP:20260420T100957
CREATED:20251001T170604Z
LAST-MODIFIED:20260403T181347Z
UID:10000659-1912852800-1912856400@hopkinscfar.org
SUMMARY:Implementation Science Monthly Rounds
DESCRIPTION:The April Implementation Science Monthly Rounds (ISMR) will feature Dr. Helen E Jack. Dr. Jack is an Assistant Professor at University of Washington School of Medicine in the Division of General Internal Medicine. She is physician-scientist and a practicing primary care physician at a prison in rural eastern Washington State. Dr. Jack’s research focuses on the integration of mental health and addiction care into low-resource primary care settings both in the US and globally. Her EHE-funded research in Washington State prisons has focused on HIV prevention\, and she is a recent recipient of the NIDA Avenir Award to support her efforts to develop a learning health system within the Washington State prison focused on substance use and HIV. \nDr. Jack will be talking on “HIV prevention for people releasing from prison: It’s about whole person care”. \nJoin Zoom Meeting\nhttps://jhjhm.zoom.us/j/98099291786\nMeeting ID: 980 9929 1786\nDial by your location\n+1 301 715 8592 US (Washington DC)\nFind your local number: https://jhjhm.zoom.us/u/ad6ZKUsZ6
URL:https://hopkinscfar.org/event/implementation-science-monthly-rounds-2/2030-08-13/
LOCATION:Zoom
CATEGORIES:Implementation Science
END:VEVENT
BEGIN:VEVENT
DTSTART;TZID=America/New_York:20300815T130000
DTEND;TZID=America/New_York:20300815T140000
DTSTAMP:20260420T100957
CREATED:20260319T204146Z
LAST-MODIFIED:20260319T204211Z
UID:10001091-1913029200-1913032800@hopkinscfar.org
SUMMARY:CFAR Criminal Legal Involvement and Health Scientific Working Group
DESCRIPTION:Occurs the third Thursday of every 1 month(s) effective 4/16/2026 from 1:00 PM to 2:00 PM
URL:https://hopkinscfar.org/event/cfar-criminal-legal-involvement-and-health-scientific-working-group/2030-08-15/
LOCATION:Zoom
END:VEVENT
BEGIN:VEVENT
DTSTART;TZID=America/New_York:20300822T140000
DTEND;TZID=America/New_York:20300822T150000
DTSTAMP:20260420T100957
CREATED:20251001T180419Z
LAST-MODIFIED:20251001T180656Z
UID:10000721-1913637600-1913641200@hopkinscfar.org
SUMMARY:CATCH Meeting
DESCRIPTION:Conversation\, Advice\, and Topics about Cognition with HIV \nJoin the Baltimore-Washington CATCH Support Group\, to share support\, listen to stories of courage\, and learn more about brain changes associated with life with HIV! \nMeeting are held on the 4th Thursday of each month from 2 – 3PM ET\nPlease sign up to join: https://bit.ly/CATCHgroup \nFor more questions\, please contact: \nCaroline Foote\, cfoote9@jh.edu
URL:https://hopkinscfar.org/event/catch-meeting/2030-08-22/
LOCATION:Zoom
END:VEVENT
BEGIN:VEVENT
DTSTART;TZID=America/New_York:20300826T110000
DTEND;TZID=America/New_York:20300826T120000
DTSTAMP:20260420T100957
CREATED:20250804T190121Z
LAST-MODIFIED:20250804T190121Z
UID:10001027-1913972400-1913976000@hopkinscfar.org
SUMMARY:CFAR Leadership Meeting
DESCRIPTION:The CFAR Leadership Meeting meets on the 4th Monday of every month from 11:00 AM – 12:00 PM EST. \nContact Name: Eileen Martin\nEmail: emarti77@jhmi.edu
URL:https://hopkinscfar.org/event/cfar-leadership-meeting/2030-08-26/
LOCATION:Zoom
END:VEVENT
BEGIN:VEVENT
DTSTART;TZID=America/New_York:20300905T140000
DTEND;TZID=America/New_York:20300905T150000
DTSTAMP:20260420T100957
CREATED:20251121T190233Z
LAST-MODIFIED:20251210T184325Z
UID:10000962-1914847200-1914850800@hopkinscfar.org
SUMMARY:dESIgn: Dynamic ESI Group Network
DESCRIPTION:Are you an Early-Stage Investigator who is writing or thinking about writing a grant related to TB\, HIV\, and/or stigma?  \nThe JHU TRAC\, CFAR and CHIMES Centers are re-launching our K and K2R Clubs as the combined dESIgn: Dynamic ESI Group Network. This comprehensive grant development and mentoring working group is open to any JHU-affiliated trainee or ESI who is planning to or considering submitting a grant in the next year. Sessions will feature themed presentations from CFAR\,TRAC and CHIMES faculty with open discussions and opportunities to review and solicit feedback on your research project and grant components. Topics and themes will be tailored to feedback from the group. \nSessions are held on the 1st Thursday of the month at 2pm ET \nRegistration required: https://www.surveymonkey.com/r/dESIgnRegistration \nInterested in participating or learning more about our grant development resources? \n\nTRAC: mtalalay@jhu.edu\nCFAR: CFAR@jhmi.edu\nCHIMES: kwill218@jhu.edu
URL:https://hopkinscfar.org/event/design-dynamic-esi-group-network/2030-09-05/
LOCATION:Zoom
CATEGORIES:dESIgn
END:VEVENT
BEGIN:VEVENT
DTSTART;TZID=America/New_York:20300910T120000
DTEND;TZID=America/New_York:20300910T130000
DTSTAMP:20260420T100957
CREATED:20251001T170604Z
LAST-MODIFIED:20260403T181347Z
UID:10000660-1915272000-1915275600@hopkinscfar.org
SUMMARY:Implementation Science Monthly Rounds
DESCRIPTION:The April Implementation Science Monthly Rounds (ISMR) will feature Dr. Helen E Jack. Dr. Jack is an Assistant Professor at University of Washington School of Medicine in the Division of General Internal Medicine. She is physician-scientist and a practicing primary care physician at a prison in rural eastern Washington State. Dr. Jack’s research focuses on the integration of mental health and addiction care into low-resource primary care settings both in the US and globally. Her EHE-funded research in Washington State prisons has focused on HIV prevention\, and she is a recent recipient of the NIDA Avenir Award to support her efforts to develop a learning health system within the Washington State prison focused on substance use and HIV. \nDr. Jack will be talking on “HIV prevention for people releasing from prison: It’s about whole person care”. \nJoin Zoom Meeting\nhttps://jhjhm.zoom.us/j/98099291786\nMeeting ID: 980 9929 1786\nDial by your location\n+1 301 715 8592 US (Washington DC)\nFind your local number: https://jhjhm.zoom.us/u/ad6ZKUsZ6
URL:https://hopkinscfar.org/event/implementation-science-monthly-rounds-2/2030-09-10/
LOCATION:Zoom
CATEGORIES:Implementation Science
END:VEVENT
BEGIN:VEVENT
DTSTART;TZID=America/New_York:20300919T130000
DTEND;TZID=America/New_York:20300919T140000
DTSTAMP:20260420T100957
CREATED:20260319T204146Z
LAST-MODIFIED:20260319T204211Z
UID:10001092-1916053200-1916056800@hopkinscfar.org
SUMMARY:CFAR Criminal Legal Involvement and Health Scientific Working Group
DESCRIPTION:Occurs the third Thursday of every 1 month(s) effective 4/16/2026 from 1:00 PM to 2:00 PM
URL:https://hopkinscfar.org/event/cfar-criminal-legal-involvement-and-health-scientific-working-group/2030-09-19/
LOCATION:Zoom
END:VEVENT
BEGIN:VEVENT
DTSTART;TZID=America/New_York:20300923T110000
DTEND;TZID=America/New_York:20300923T120000
DTSTAMP:20260420T100957
CREATED:20250804T190121Z
LAST-MODIFIED:20250804T190121Z
UID:10001028-1916391600-1916395200@hopkinscfar.org
SUMMARY:CFAR Leadership Meeting
DESCRIPTION:The CFAR Leadership Meeting meets on the 4th Monday of every month from 11:00 AM – 12:00 PM EST. \nContact Name: Eileen Martin\nEmail: emarti77@jhmi.edu
URL:https://hopkinscfar.org/event/cfar-leadership-meeting/2030-09-23/
LOCATION:Zoom
END:VEVENT
BEGIN:VEVENT
DTSTART;TZID=America/New_York:20300926T140000
DTEND;TZID=America/New_York:20300926T150000
DTSTAMP:20260420T100957
CREATED:20251001T180419Z
LAST-MODIFIED:20251001T180656Z
UID:10000722-1916661600-1916665200@hopkinscfar.org
SUMMARY:CATCH Meeting
DESCRIPTION:Conversation\, Advice\, and Topics about Cognition with HIV \nJoin the Baltimore-Washington CATCH Support Group\, to share support\, listen to stories of courage\, and learn more about brain changes associated with life with HIV! \nMeeting are held on the 4th Thursday of each month from 2 – 3PM ET\nPlease sign up to join: https://bit.ly/CATCHgroup \nFor more questions\, please contact: \nCaroline Foote\, cfoote9@jh.edu
URL:https://hopkinscfar.org/event/catch-meeting/2030-09-26/
LOCATION:Zoom
END:VEVENT
BEGIN:VEVENT
DTSTART;TZID=America/New_York:20301003T140000
DTEND;TZID=America/New_York:20301003T150000
DTSTAMP:20260420T100957
CREATED:20251121T190233Z
LAST-MODIFIED:20251210T184325Z
UID:10000963-1917266400-1917270000@hopkinscfar.org
SUMMARY:dESIgn: Dynamic ESI Group Network
DESCRIPTION:Are you an Early-Stage Investigator who is writing or thinking about writing a grant related to TB\, HIV\, and/or stigma?  \nThe JHU TRAC\, CFAR and CHIMES Centers are re-launching our K and K2R Clubs as the combined dESIgn: Dynamic ESI Group Network. This comprehensive grant development and mentoring working group is open to any JHU-affiliated trainee or ESI who is planning to or considering submitting a grant in the next year. Sessions will feature themed presentations from CFAR\,TRAC and CHIMES faculty with open discussions and opportunities to review and solicit feedback on your research project and grant components. Topics and themes will be tailored to feedback from the group. \nSessions are held on the 1st Thursday of the month at 2pm ET \nRegistration required: https://www.surveymonkey.com/r/dESIgnRegistration \nInterested in participating or learning more about our grant development resources? \n\nTRAC: mtalalay@jhu.edu\nCFAR: CFAR@jhmi.edu\nCHIMES: kwill218@jhu.edu
URL:https://hopkinscfar.org/event/design-dynamic-esi-group-network/2030-10-03/
LOCATION:Zoom
CATEGORIES:dESIgn
END:VEVENT
BEGIN:VEVENT
DTSTART;TZID=America/New_York:20301008T120000
DTEND;TZID=America/New_York:20301008T130000
DTSTAMP:20260420T100957
CREATED:20251001T170604Z
LAST-MODIFIED:20260403T181347Z
UID:10000724-1917691200-1917694800@hopkinscfar.org
SUMMARY:Implementation Science Monthly Rounds
DESCRIPTION:The April Implementation Science Monthly Rounds (ISMR) will feature Dr. Helen E Jack. Dr. Jack is an Assistant Professor at University of Washington School of Medicine in the Division of General Internal Medicine. She is physician-scientist and a practicing primary care physician at a prison in rural eastern Washington State. Dr. Jack’s research focuses on the integration of mental health and addiction care into low-resource primary care settings both in the US and globally. Her EHE-funded research in Washington State prisons has focused on HIV prevention\, and she is a recent recipient of the NIDA Avenir Award to support her efforts to develop a learning health system within the Washington State prison focused on substance use and HIV. \nDr. Jack will be talking on “HIV prevention for people releasing from prison: It’s about whole person care”. \nJoin Zoom Meeting\nhttps://jhjhm.zoom.us/j/98099291786\nMeeting ID: 980 9929 1786\nDial by your location\n+1 301 715 8592 US (Washington DC)\nFind your local number: https://jhjhm.zoom.us/u/ad6ZKUsZ6
URL:https://hopkinscfar.org/event/implementation-science-monthly-rounds-2/2030-10-08/
LOCATION:Zoom
CATEGORIES:Implementation Science
END:VEVENT
BEGIN:VEVENT
DTSTART;TZID=America/New_York:20301017T130000
DTEND;TZID=America/New_York:20301017T140000
DTSTAMP:20260420T100957
CREATED:20260319T204146Z
LAST-MODIFIED:20260319T204211Z
UID:10001093-1918472400-1918476000@hopkinscfar.org
SUMMARY:CFAR Criminal Legal Involvement and Health Scientific Working Group
DESCRIPTION:Occurs the third Thursday of every 1 month(s) effective 4/16/2026 from 1:00 PM to 2:00 PM
URL:https://hopkinscfar.org/event/cfar-criminal-legal-involvement-and-health-scientific-working-group/2030-10-17/
LOCATION:Zoom
END:VEVENT
BEGIN:VEVENT
DTSTART;TZID=America/New_York:20301028T110000
DTEND;TZID=America/New_York:20301028T120000
DTSTAMP:20260420T100957
CREATED:20250804T190121Z
LAST-MODIFIED:20250804T190121Z
UID:10001029-1919415600-1919419200@hopkinscfar.org
SUMMARY:CFAR Leadership Meeting
DESCRIPTION:The CFAR Leadership Meeting meets on the 4th Monday of every month from 11:00 AM – 12:00 PM EST. \nContact Name: Eileen Martin\nEmail: emarti77@jhmi.edu
URL:https://hopkinscfar.org/event/cfar-leadership-meeting/2030-10-28/
LOCATION:Zoom
END:VEVENT
BEGIN:VEVENT
DTSTART;TZID=America/New_York:20301107T140000
DTEND;TZID=America/New_York:20301107T150000
DTSTAMP:20260420T100957
CREATED:20251121T190233Z
LAST-MODIFIED:20251210T184325Z
UID:10000964-1920290400-1920294000@hopkinscfar.org
SUMMARY:dESIgn: Dynamic ESI Group Network
DESCRIPTION:Are you an Early-Stage Investigator who is writing or thinking about writing a grant related to TB\, HIV\, and/or stigma?  \nThe JHU TRAC\, CFAR and CHIMES Centers are re-launching our K and K2R Clubs as the combined dESIgn: Dynamic ESI Group Network. This comprehensive grant development and mentoring working group is open to any JHU-affiliated trainee or ESI who is planning to or considering submitting a grant in the next year. Sessions will feature themed presentations from CFAR\,TRAC and CHIMES faculty with open discussions and opportunities to review and solicit feedback on your research project and grant components. Topics and themes will be tailored to feedback from the group. \nSessions are held on the 1st Thursday of the month at 2pm ET \nRegistration required: https://www.surveymonkey.com/r/dESIgnRegistration \nInterested in participating or learning more about our grant development resources? \n\nTRAC: mtalalay@jhu.edu\nCFAR: CFAR@jhmi.edu\nCHIMES: kwill218@jhu.edu
URL:https://hopkinscfar.org/event/design-dynamic-esi-group-network/2030-11-07/
LOCATION:Zoom
CATEGORIES:dESIgn
END:VEVENT
BEGIN:VEVENT
DTSTART;TZID=America/New_York:20301112T120000
DTEND;TZID=America/New_York:20301112T130000
DTSTAMP:20260420T100957
CREATED:20251001T170604Z
LAST-MODIFIED:20260403T181347Z
UID:10000786-1920715200-1920718800@hopkinscfar.org
SUMMARY:Implementation Science Monthly Rounds
DESCRIPTION:The April Implementation Science Monthly Rounds (ISMR) will feature Dr. Helen E Jack. Dr. Jack is an Assistant Professor at University of Washington School of Medicine in the Division of General Internal Medicine. She is physician-scientist and a practicing primary care physician at a prison in rural eastern Washington State. Dr. Jack’s research focuses on the integration of mental health and addiction care into low-resource primary care settings both in the US and globally. Her EHE-funded research in Washington State prisons has focused on HIV prevention\, and she is a recent recipient of the NIDA Avenir Award to support her efforts to develop a learning health system within the Washington State prison focused on substance use and HIV. \nDr. Jack will be talking on “HIV prevention for people releasing from prison: It’s about whole person care”. \nJoin Zoom Meeting\nhttps://jhjhm.zoom.us/j/98099291786\nMeeting ID: 980 9929 1786\nDial by your location\n+1 301 715 8592 US (Washington DC)\nFind your local number: https://jhjhm.zoom.us/u/ad6ZKUsZ6
URL:https://hopkinscfar.org/event/implementation-science-monthly-rounds-2/2030-11-12/
LOCATION:Zoom
CATEGORIES:Implementation Science
END:VEVENT
BEGIN:VEVENT
DTSTART;TZID=America/New_York:20301121T130000
DTEND;TZID=America/New_York:20301121T140000
DTSTAMP:20260420T100957
CREATED:20260319T204146Z
LAST-MODIFIED:20260319T204211Z
UID:10001094-1921496400-1921500000@hopkinscfar.org
SUMMARY:CFAR Criminal Legal Involvement and Health Scientific Working Group
DESCRIPTION:Occurs the third Thursday of every 1 month(s) effective 4/16/2026 from 1:00 PM to 2:00 PM
URL:https://hopkinscfar.org/event/cfar-criminal-legal-involvement-and-health-scientific-working-group/2030-11-21/
LOCATION:Zoom
END:VEVENT
BEGIN:VEVENT
DTSTART;TZID=America/New_York:20301125T110000
DTEND;TZID=America/New_York:20301125T120000
DTSTAMP:20260420T100957
CREATED:20250804T190121Z
LAST-MODIFIED:20250804T190121Z
UID:10001030-1921834800-1921838400@hopkinscfar.org
SUMMARY:CFAR Leadership Meeting
DESCRIPTION:The CFAR Leadership Meeting meets on the 4th Monday of every month from 11:00 AM – 12:00 PM EST. \nContact Name: Eileen Martin\nEmail: emarti77@jhmi.edu
URL:https://hopkinscfar.org/event/cfar-leadership-meeting/2030-11-25/
LOCATION:Zoom
END:VEVENT
BEGIN:VEVENT
DTSTART;TZID=America/New_York:20301205T140000
DTEND;TZID=America/New_York:20301205T150000
DTSTAMP:20260420T100957
CREATED:20251121T190233Z
LAST-MODIFIED:20251210T184325Z
UID:10000965-1922709600-1922713200@hopkinscfar.org
SUMMARY:dESIgn: Dynamic ESI Group Network
DESCRIPTION:Are you an Early-Stage Investigator who is writing or thinking about writing a grant related to TB\, HIV\, and/or stigma?  \nThe JHU TRAC\, CFAR and CHIMES Centers are re-launching our K and K2R Clubs as the combined dESIgn: Dynamic ESI Group Network. This comprehensive grant development and mentoring working group is open to any JHU-affiliated trainee or ESI who is planning to or considering submitting a grant in the next year. Sessions will feature themed presentations from CFAR\,TRAC and CHIMES faculty with open discussions and opportunities to review and solicit feedback on your research project and grant components. Topics and themes will be tailored to feedback from the group. \nSessions are held on the 1st Thursday of the month at 2pm ET \nRegistration required: https://www.surveymonkey.com/r/dESIgnRegistration \nInterested in participating or learning more about our grant development resources? \n\nTRAC: mtalalay@jhu.edu\nCFAR: CFAR@jhmi.edu\nCHIMES: kwill218@jhu.edu
URL:https://hopkinscfar.org/event/design-dynamic-esi-group-network/2030-12-05/
LOCATION:Zoom
CATEGORIES:dESIgn
END:VEVENT
BEGIN:VEVENT
DTSTART;TZID=America/New_York:20301210T120000
DTEND;TZID=America/New_York:20301210T130000
DTSTAMP:20260420T100957
CREATED:20251001T170604Z
LAST-MODIFIED:20260403T181347Z
UID:10001037-1923134400-1923138000@hopkinscfar.org
SUMMARY:Implementation Science Monthly Rounds
DESCRIPTION:The April Implementation Science Monthly Rounds (ISMR) will feature Dr. Helen E Jack. Dr. Jack is an Assistant Professor at University of Washington School of Medicine in the Division of General Internal Medicine. She is physician-scientist and a practicing primary care physician at a prison in rural eastern Washington State. Dr. Jack’s research focuses on the integration of mental health and addiction care into low-resource primary care settings both in the US and globally. Her EHE-funded research in Washington State prisons has focused on HIV prevention\, and she is a recent recipient of the NIDA Avenir Award to support her efforts to develop a learning health system within the Washington State prison focused on substance use and HIV. \nDr. Jack will be talking on “HIV prevention for people releasing from prison: It’s about whole person care”. \nJoin Zoom Meeting\nhttps://jhjhm.zoom.us/j/98099291786\nMeeting ID: 980 9929 1786\nDial by your location\n+1 301 715 8592 US (Washington DC)\nFind your local number: https://jhjhm.zoom.us/u/ad6ZKUsZ6
URL:https://hopkinscfar.org/event/implementation-science-monthly-rounds-2/2030-12-10/
LOCATION:Zoom
CATEGORIES:Implementation Science
END:VEVENT
BEGIN:VEVENT
DTSTART;TZID=America/New_York:20301219T130000
DTEND;TZID=America/New_York:20301219T140000
DTSTAMP:20260420T100957
CREATED:20260319T204146Z
LAST-MODIFIED:20260319T204211Z
UID:10001095-1923915600-1923919200@hopkinscfar.org
SUMMARY:CFAR Criminal Legal Involvement and Health Scientific Working Group
DESCRIPTION:Occurs the third Thursday of every 1 month(s) effective 4/16/2026 from 1:00 PM to 2:00 PM
URL:https://hopkinscfar.org/event/cfar-criminal-legal-involvement-and-health-scientific-working-group/2030-12-19/
LOCATION:Zoom
END:VEVENT
BEGIN:VEVENT
DTSTART;TZID=America/New_York:20310114T120000
DTEND;TZID=America/New_York:20310114T130000
DTSTAMP:20260420T100957
CREATED:20251001T170604Z
LAST-MODIFIED:20260403T181347Z
UID:10001038-1926158400-1926162000@hopkinscfar.org
SUMMARY:Implementation Science Monthly Rounds
DESCRIPTION:The April Implementation Science Monthly Rounds (ISMR) will feature Dr. Helen E Jack. Dr. Jack is an Assistant Professor at University of Washington School of Medicine in the Division of General Internal Medicine. She is physician-scientist and a practicing primary care physician at a prison in rural eastern Washington State. Dr. Jack’s research focuses on the integration of mental health and addiction care into low-resource primary care settings both in the US and globally. Her EHE-funded research in Washington State prisons has focused on HIV prevention\, and she is a recent recipient of the NIDA Avenir Award to support her efforts to develop a learning health system within the Washington State prison focused on substance use and HIV. \nDr. Jack will be talking on “HIV prevention for people releasing from prison: It’s about whole person care”. \nJoin Zoom Meeting\nhttps://jhjhm.zoom.us/j/98099291786\nMeeting ID: 980 9929 1786\nDial by your location\n+1 301 715 8592 US (Washington DC)\nFind your local number: https://jhjhm.zoom.us/u/ad6ZKUsZ6
URL:https://hopkinscfar.org/event/implementation-science-monthly-rounds-2/2031-01-14/
LOCATION:Zoom
CATEGORIES:Implementation Science
END:VEVENT
BEGIN:VEVENT
DTSTART;TZID=America/New_York:20310116T130000
DTEND;TZID=America/New_York:20310116T140000
DTSTAMP:20260420T100957
CREATED:20260319T204146Z
LAST-MODIFIED:20260319T204211Z
UID:10001096-1926334800-1926338400@hopkinscfar.org
SUMMARY:CFAR Criminal Legal Involvement and Health Scientific Working Group
DESCRIPTION:Occurs the third Thursday of every 1 month(s) effective 4/16/2026 from 1:00 PM to 2:00 PM
URL:https://hopkinscfar.org/event/cfar-criminal-legal-involvement-and-health-scientific-working-group/2031-01-16/
LOCATION:Zoom
END:VEVENT
BEGIN:VEVENT
DTSTART;TZID=America/New_York:20310211T120000
DTEND;TZID=America/New_York:20310211T130000
DTSTAMP:20260420T100957
CREATED:20251001T170604Z
LAST-MODIFIED:20260403T181347Z
UID:10001098-1928577600-1928581200@hopkinscfar.org
SUMMARY:Implementation Science Monthly Rounds
DESCRIPTION:The April Implementation Science Monthly Rounds (ISMR) will feature Dr. Helen E Jack. Dr. Jack is an Assistant Professor at University of Washington School of Medicine in the Division of General Internal Medicine. She is physician-scientist and a practicing primary care physician at a prison in rural eastern Washington State. Dr. Jack’s research focuses on the integration of mental health and addiction care into low-resource primary care settings both in the US and globally. Her EHE-funded research in Washington State prisons has focused on HIV prevention\, and she is a recent recipient of the NIDA Avenir Award to support her efforts to develop a learning health system within the Washington State prison focused on substance use and HIV. \nDr. Jack will be talking on “HIV prevention for people releasing from prison: It’s about whole person care”. \nJoin Zoom Meeting\nhttps://jhjhm.zoom.us/j/98099291786\nMeeting ID: 980 9929 1786\nDial by your location\n+1 301 715 8592 US (Washington DC)\nFind your local number: https://jhjhm.zoom.us/u/ad6ZKUsZ6
URL:https://hopkinscfar.org/event/implementation-science-monthly-rounds-2/2031-02-11/
LOCATION:Zoom
CATEGORIES:Implementation Science
END:VEVENT
BEGIN:VEVENT
DTSTART;TZID=America/New_York:20310220T130000
DTEND;TZID=America/New_York:20310220T140000
DTSTAMP:20260420T100957
CREATED:20260319T204146Z
LAST-MODIFIED:20260319T204211Z
UID:10001097-1929358800-1929362400@hopkinscfar.org
SUMMARY:CFAR Criminal Legal Involvement and Health Scientific Working Group
DESCRIPTION:Occurs the third Thursday of every 1 month(s) effective 4/16/2026 from 1:00 PM to 2:00 PM
URL:https://hopkinscfar.org/event/cfar-criminal-legal-involvement-and-health-scientific-working-group/2031-02-20/
LOCATION:Zoom
END:VEVENT
BEGIN:VEVENT
DTSTART;TZID=America/New_York:20310311T120000
DTEND;TZID=America/New_York:20310311T130000
DTSTAMP:20260420T100957
CREATED:20251001T170604Z
LAST-MODIFIED:20260403T181347Z
UID:10001099-1930996800-1931000400@hopkinscfar.org
SUMMARY:Implementation Science Monthly Rounds
DESCRIPTION:The April Implementation Science Monthly Rounds (ISMR) will feature Dr. Helen E Jack. Dr. Jack is an Assistant Professor at University of Washington School of Medicine in the Division of General Internal Medicine. She is physician-scientist and a practicing primary care physician at a prison in rural eastern Washington State. Dr. Jack’s research focuses on the integration of mental health and addiction care into low-resource primary care settings both in the US and globally. Her EHE-funded research in Washington State prisons has focused on HIV prevention\, and she is a recent recipient of the NIDA Avenir Award to support her efforts to develop a learning health system within the Washington State prison focused on substance use and HIV. \nDr. Jack will be talking on “HIV prevention for people releasing from prison: It’s about whole person care”. \nJoin Zoom Meeting\nhttps://jhjhm.zoom.us/j/98099291786\nMeeting ID: 980 9929 1786\nDial by your location\n+1 301 715 8592 US (Washington DC)\nFind your local number: https://jhjhm.zoom.us/u/ad6ZKUsZ6
URL:https://hopkinscfar.org/event/implementation-science-monthly-rounds-2/2031-03-11/
LOCATION:Zoom
CATEGORIES:Implementation Science
END:VEVENT
END:VCALENDAR