BEGIN:VCALENDAR
VERSION:2.0
PRODID:-//JHU CFAR - ECPv6.15.20//NONSGML v1.0//EN
CALSCALE:GREGORIAN
METHOD:PUBLISH
X-ORIGINAL-URL:https://hopkinscfar.org
X-WR-CALDESC:Events for JHU CFAR
REFRESH-INTERVAL;VALUE=DURATION:PT1H
X-Robots-Tag:noindex
X-PUBLISHED-TTL:PT1H
BEGIN:VTIMEZONE
TZID:America/New_York
BEGIN:DAYLIGHT
TZOFFSETFROM:-0500
TZOFFSETTO:-0400
TZNAME:EDT
DTSTART:20300310T070000
END:DAYLIGHT
BEGIN:STANDARD
TZOFFSETFROM:-0400
TZOFFSETTO:-0500
TZNAME:EST
DTSTART:20301103T060000
END:STANDARD
BEGIN:DAYLIGHT
TZOFFSETFROM:-0500
TZOFFSETTO:-0400
TZNAME:EDT
DTSTART:20310309T070000
END:DAYLIGHT
BEGIN:STANDARD
TZOFFSETFROM:-0400
TZOFFSETTO:-0500
TZNAME:EST
DTSTART:20311102T060000
END:STANDARD
BEGIN:DAYLIGHT
TZOFFSETFROM:-0500
TZOFFSETTO:-0400
TZNAME:EDT
DTSTART:20320314T070000
END:DAYLIGHT
BEGIN:STANDARD
TZOFFSETFROM:-0400
TZOFFSETTO:-0500
TZNAME:EST
DTSTART:20321107T060000
END:STANDARD
END:VTIMEZONE
BEGIN:VEVENT
DTSTART;TZID=America/New_York:20310220T130000
DTEND;TZID=America/New_York:20310220T140000
DTSTAMP:20260420T125001
CREATED:20260319T204146Z
LAST-MODIFIED:20260319T204211Z
UID:10001097-1929358800-1929362400@hopkinscfar.org
SUMMARY:CFAR Criminal Legal Involvement and Health Scientific Working Group
DESCRIPTION:Occurs the third Thursday of every 1 month(s) effective 4/16/2026 from 1:00 PM to 2:00 PM
URL:https://hopkinscfar.org/event/cfar-criminal-legal-involvement-and-health-scientific-working-group/2031-02-20/
LOCATION:Zoom
END:VEVENT
BEGIN:VEVENT
DTSTART;TZID=America/New_York:20310311T120000
DTEND;TZID=America/New_York:20310311T130000
DTSTAMP:20260420T125001
CREATED:20251001T170604Z
LAST-MODIFIED:20260403T181347Z
UID:10001099-1930996800-1931000400@hopkinscfar.org
SUMMARY:Implementation Science Monthly Rounds
DESCRIPTION:The April Implementation Science Monthly Rounds (ISMR) will feature Dr. Helen E Jack. Dr. Jack is an Assistant Professor at University of Washington School of Medicine in the Division of General Internal Medicine. She is physician-scientist and a practicing primary care physician at a prison in rural eastern Washington State. Dr. Jack’s research focuses on the integration of mental health and addiction care into low-resource primary care settings both in the US and globally. Her EHE-funded research in Washington State prisons has focused on HIV prevention\, and she is a recent recipient of the NIDA Avenir Award to support her efforts to develop a learning health system within the Washington State prison focused on substance use and HIV. \nDr. Jack will be talking on “HIV prevention for people releasing from prison: It’s about whole person care”. \nJoin Zoom Meeting\nhttps://jhjhm.zoom.us/j/98099291786\nMeeting ID: 980 9929 1786\nDial by your location\n+1 301 715 8592 US (Washington DC)\nFind your local number: https://jhjhm.zoom.us/u/ad6ZKUsZ6
URL:https://hopkinscfar.org/event/implementation-science-monthly-rounds-2/2031-03-11/
LOCATION:Zoom
CATEGORIES:Implementation Science
END:VEVENT
END:VCALENDAR