BEGIN:VCALENDAR
VERSION:2.0
PRODID:-//JHU CFAR - ECPv6.15.20//NONSGML v1.0//EN
CALSCALE:GREGORIAN
METHOD:PUBLISH
X-WR-CALNAME:JHU CFAR
X-ORIGINAL-URL:https://hopkinscfar.org
X-WR-CALDESC:Events for JHU CFAR
REFRESH-INTERVAL;VALUE=DURATION:PT1H
X-Robots-Tag:noindex
X-PUBLISHED-TTL:PT1H
BEGIN:VTIMEZONE
TZID:America/New_York
BEGIN:DAYLIGHT
TZOFFSETFROM:-0500
TZOFFSETTO:-0400
TZNAME:EDT
DTSTART:20240310T070000
END:DAYLIGHT
BEGIN:STANDARD
TZOFFSETFROM:-0400
TZOFFSETTO:-0500
TZNAME:EST
DTSTART:20241103T060000
END:STANDARD
BEGIN:DAYLIGHT
TZOFFSETFROM:-0500
TZOFFSETTO:-0400
TZNAME:EDT
DTSTART:20250309T070000
END:DAYLIGHT
BEGIN:STANDARD
TZOFFSETFROM:-0400
TZOFFSETTO:-0500
TZNAME:EST
DTSTART:20251102T060000
END:STANDARD
BEGIN:DAYLIGHT
TZOFFSETFROM:-0500
TZOFFSETTO:-0400
TZNAME:EDT
DTSTART:20260308T070000
END:DAYLIGHT
BEGIN:STANDARD
TZOFFSETFROM:-0400
TZOFFSETTO:-0500
TZNAME:EST
DTSTART:20261101T060000
END:STANDARD
END:VTIMEZONE
BEGIN:VEVENT
DTSTART;TZID=America/New_York:20251030T093000
DTEND;TZID=America/New_York:20251030T170000
DTSTAMP:20260419T094107
CREATED:20250910T175702Z
LAST-MODIFIED:20251105T185759Z
UID:10000599-1761816600-1761843600@hopkinscfar.org
SUMMARY:Bridging the Gap Symposium
DESCRIPTION:The Johns Hopkins University’s Community Participatory Advisory Board Presents: \nBridging the Gap Symposium \nBreaking Silos & Connecting the Dots: Coming Together to address Housing\, Mental Health\, Substance Use & Aging \nThis was a groundbreaking symposium focusing on elevating voices of the community \nView the agenda here \nDownload the flyer here
URL:https://hopkinscfar.org/event/bridging-the-gap-symposium/
LOCATION:JHU School of Nursing\, 525 N Wolfe Street\, Baltimore\, MD\, 21205\, United States
CATEGORIES:CFAR CPAB
ORGANIZER;CN="JHU CFAR CPAB":MAILTO:CFAR@jhmi.edu
END:VEVENT
END:VCALENDAR